BEGIN:VCALENDAR
VERSION:2.0
PRODID:-//HI93 | Hawaii&#039;s Local Hits | Honolulu, HI - ECPv6.15.11//NONSGML v1.0//EN
CALSCALE:GREGORIAN
METHOD:PUBLISH
X-WR-CALNAME:HI93 | Hawaii&#039;s Local Hits | Honolulu, HI
X-ORIGINAL-URL:https://hi93oahu.com
X-WR-CALDESC:Events for HI93 | Hawaii&#039;s Local Hits | Honolulu, HI
REFRESH-INTERVAL;VALUE=DURATION:PT1H
X-Robots-Tag:noindex
X-PUBLISHED-TTL:PT1H
BEGIN:VTIMEZONE
TZID:Pacific/Honolulu
BEGIN:STANDARD
TZOFFSETFROM:-1000
TZOFFSETTO:-1000
TZNAME:HST
DTSTART:20240101T000000
END:STANDARD
END:VTIMEZONE
BEGIN:VEVENT
DTSTART;TZID=Pacific/Honolulu:20250713T190000
DTEND;TZID=Pacific/Honolulu:20250713T220000
DTSTAMP:20260421T010845
CREATED:20250704T002100Z
LAST-MODIFIED:20250709T021042Z
UID:10121-1752433200-1752444000@hi93oahu.com
SUMMARY:HSOxHYS SIDE BY SIDE
DESCRIPTION:Pacific Music Institute Wind Ensemble\nChristopher Smith\, conductor\nHawaiʻi Symphony Orchestra\nDane Lam\, conductor\nPacific Music Institute Symphony\nRichard Scerbo\, conductor\nJoseph Stepec\, conductor\nA Collaboration between Hawaiʻi Youth Symphony and the Hawaiʻi Symphony Orchestra:\nSide-by-Side programs are joint initiatives of professional orchestras and youth orchestras; a chance for aspiring young musicians to play in the “major leagues” for a night. Students and professionals become stand partners and sit side-by-side. Our summer Side-by-Side concert will be the first for the Pacific Music Institute\, a concert including the Wind Ensemble\, and the Side-by-Side performance with the HSO and PMI Symphony Orchestra performed at the Neal S. Blaisdell Concert Hall. We are proud to collaborate with the Hawaii Youth Symphony on this special project and invite all to come attend the performances!\nThanks to the generosity of our supporters\, the Hawaiʻi Youth Symphony and your Hawaiʻi Symphony Orchestra are pleased to offer these concerts FREE to the public
URL:https://hi93oahu.com/event/hsoxhys-side-by-side-2/
LOCATION:Neal S. Blaisdell Concert Hall\, 777 Ward Ave\, Honolulu\, HI\, 96814\, United States
ATTACH;FMTTYPE=image/jpeg:https://hi93oahu.com/wp-content/uploads/sites/13/13-6.jpg
END:VEVENT
BEGIN:VEVENT
DTSTART;TZID=Pacific/Honolulu:20250712T193000
DTEND;TZID=Pacific/Honolulu:20250712T220000
DTSTAMP:20260421T010845
CREATED:20250704T001600Z
LAST-MODIFIED:20250704T011626Z
UID:10099-1752348600-1752357600@hi93oahu.com
SUMMARY:THE MUSIC OF HANS ZIMMER
DESCRIPTION:Hawaiʻi Symphony Orchestra\nDane Lam\, conductor\nMichael-Thomas Foumai\, narrator\nEmbark on a symphonic journey into the captivating world of Oscar® and Grammy® Award-winning composer Hans Zimmer. Your Hawaiʻi Symphony Orchestra brings to life the stirring music from iconic blockbuster soundtracks\, including Inception\, Interstellar\, The Dark Knight Trilogy\, Gladiator\, The Last Samurai\, Pirates of the Caribbean\, The Lion King\, and more! Conducted by Music and Artistic Director Dane Lam\, with narration by HSO Composer in Residence Michael-Thomas Foumai. Please note this concert will be music only\, not accompanied by a film screen.
URL:https://hi93oahu.com/event/the-music-of-hans-zimmer/
LOCATION:Neil S. Blaisdell Concert hall\, 777 Ward Ave\, Honolulu\, HI\, 96814\, United States
ATTACH;FMTTYPE=image/jpeg:https://hi93oahu.com/wp-content/uploads/sites/13/VcNtd81d94Bn-71-1.jpg
END:VEVENT
BEGIN:VEVENT
DTSTART;TZID=Pacific/Honolulu:20250709T173000
DTEND;TZID=Pacific/Honolulu:20250709T220000
DTSTAMP:20260421T010845
CREATED:20250704T000630Z
LAST-MODIFIED:20250704T012141Z
UID:10095-1752082200-1752098400@hi93oahu.com
SUMMARY:SYMPHONY IN THE PARK
DESCRIPTION:Wednesday\, July 9\, 2025 | 5:30 PM (Free Concert)\nKailua District Park\nConcert sponsor: Alexander & Baldwin\nHawaiʻi Symphony Orchestra\nDane Lam\, conductor\nLei Yao Chang\, cello (2025 Nā Hōkū ʻŌpio Winner)\nIris Yun\, harp (2025 Nā Hōkū ʻŌpio Winner)\nMusic & Artistic Director Dane Lam and your Hawaiʻi Symphony Orchestra return to the heart of Kailua for a free concert perfect for the family. Enjoy summertime symphonic hits from the stage and screen\, and winners of the Nā Hōkū ʻŌpio Young Stars Competition\, Harpist Iris Yun and cellist Lei Yao Chang! This free event is brought to you in part by the generosity of Alexander & Baldwin. Attendees are encouraged to pack their own picnic and show up with their lawn chairs\, picnic blankets\, or other seating to watch the symphony as they perform from under the Pavilion at Kailua District Park.\nPlease note the following are prohibited at Kailua District Park: smoking (cigarettes\, e-cigarettes\, etc.)\, alcoholic beverages\, dogs\, and other animals.
URL:https://hi93oahu.com/event/symphony-in-the-park/
LOCATION:Kailua District Park\, 21 S Kainalu Dr\, Kailua\, HI\, 96734\, United States
ATTACH;FMTTYPE=image/jpeg:https://hi93oahu.com/wp-content/uploads/sites/13/VcNtd81d94Bn-71-2.jpg
END:VEVENT
BEGIN:VEVENT
DTSTART;TZID=Pacific/Honolulu:20250705T150000
DTEND;TZID=Pacific/Honolulu:20250705T210000
DTSTAMP:20260421T010845
CREATED:20250627T230302Z
LAST-MODIFIED:20250627T230302Z
UID:10081-1751727600-1751749200@hi93oahu.com
SUMMARY:Haleiwa Distilling Co Grand Opening
DESCRIPTION:Haleiwa Distilling Company is officially OPEN!  \nJoin Pu’unui for the grand opening as craft cocktails flow and live music from the bands Backset and JOBY! w/ So Cherry crescent the night.  \nProudly pouring the island’s finest — handcrafted rum\, whiskey\, and gin made right here on the North Shore. Join us Saturday\, July 5th at the iconic Old Waialua Sugar Mill for our Grand Opening Celebration! Craft cocktails will be flowing from 3 to 9 PM\, with limited edition first-run rum bottles available only at the event and tours by the master distiller. It’s time to raise a glass with Haleiwa Distilling Co. and celebrate the revival of the Old Waialua Sugar Mill — Crafting excellence in every drop.
URL:https://hi93oahu.com/event/haleiwa-distilling-co-grand-opening/
LOCATION:Haleiwa Distilling Co\, Old Waialua Sugar Mill 67-106 Kealohanui St﻿
ATTACH;FMTTYPE=image/jpeg:https://hi93oahu.com/wp-content/uploads/sites/13/Haleiwa.jpg
END:VEVENT
BEGIN:VEVENT
DTSTART;TZID=Pacific/Honolulu:20250705T130000
DTEND;TZID=Pacific/Honolulu:20250705T210000
DTSTAMP:20260421T010845
CREATED:20250620T185057Z
LAST-MODIFIED:20250620T215439Z
UID:10022-1751720400-1751749200@hi93oahu.com
SUMMARY:2025 Lāna‘i Pineapple Festival
DESCRIPTION:The 2025 Lanai Pineapple Festival is Saturday\, July 5th in Dole Park on Lanai from 1 to 9 p.m. Fun for the entire family. Live entertainment featuring that guys and a touch of gold. Craft boots\, cultural exhibits\, ono food\, cakey zipline\, bounce houses\, and prize giveaways. \nBook your day trip with Expeditions Ferry from Maui or Mokulele Airlines and Lanai Air from Oahu. Expeditions will schedule a late ferry after the festival and Mokulele Airlines also on return to Oahu. The 2025 Lanai Pineapple Festival with support from the County of Maui\, \nLanai Community Association\, Pulama Lanai and Pacific Media Group.
URL:https://hi93oahu.com/event/2025-lanai-pineapple-festival/
LOCATION:Dole Park\, Lanai Ave\, Lanai City\, HI\, 96763\, United States
ATTACH;FMTTYPE=image/png:https://hi93oahu.com/wp-content/uploads/sites/13/Screenshot-2025-06-20-at-11.47.42 AM-min-1.png
END:VEVENT
BEGIN:VEVENT
DTSTART;TZID=Pacific/Honolulu:20250702T190000
DTEND;TZID=Pacific/Honolulu:20250702T220000
DTSTAMP:20260421T010845
CREATED:20250624T031023Z
LAST-MODIFIED:20250624T031029Z
UID:10051-1751482800-1751493600@hi93oahu.com
SUMMARY:Comedy U Roast of Handsome Harold
DESCRIPTION:Comedy U Presents “The Roast of Handsome Harold”. One of Hawaii’s Rising Comedians is celebrating his birthday\, and his one wish was for Comedy U to assemble a cast of comedians to burn him to the ground! With Roast Performances from Reese Paul\, Kanoa Morse\, Pepper Lamb\, Carly Lanzetta\, Patrick Tyrrell\, Melissa Mae\, Johnny Sparkles. Hosted by Jose Dynamite.
URL:https://hi93oahu.com/event/comedy-u-roast-of-handsome-harold/
LOCATION:Anna O’briens\, 2440 S Beretania St\, Honolulu\, HI\, 96826\, United States
ATTACH;FMTTYPE=image/jpeg:https://hi93oahu.com/wp-content/uploads/sites/13/Roast-of-harold-web.jpg
END:VEVENT
BEGIN:VEVENT
DTSTART;TZID=Pacific/Honolulu:20250701T190000
DTEND;TZID=Pacific/Honolulu:20250701T220000
DTSTAMP:20260421T010845
CREATED:20250627T224109Z
LAST-MODIFIED:20250627T224109Z
UID:10073-1751396400-1751407200@hi93oahu.com
SUMMARY:Comedy U - 4-7-10 Open MicComedy
DESCRIPTION:Comedy U Presents the 4-7-10 OPEN MIC \nCome to an open mic where the performers get rewarded with more time when they’re making you laugh. \nEach comedian will receive a minimum 4 minutes\, and if they’re making the audience laugh\, they’ll get an additional 3 minutes. If they crowd is still laughing\, they’ll get another 3 minutes. \nPlus stick around to the end of the night\, as one person will receive $50 Cash Giveaway at the end of the Show. \nDoors: 7PM\nShow: 7:30PM\nTickets: $10 Advance | $15 At The Door\nAge: 18+\nLocation: Slack Key Lounge at HB Social Club 1680 Kapiolani Blvd 2nd Floor
URL:https://hi93oahu.com/event/comedy-u-4-7-10-open-miccomedy/
LOCATION:Slack Key Lounge\, 1680 Kapiolani Blvd\, Honolulu\, HI\, 96814\, United States
ATTACH;FMTTYPE=image/jpeg:https://hi93oahu.com/wp-content/uploads/sites/13/RZ3Nokp4eKxL-Capture.jpg
END:VEVENT
BEGIN:VEVENT
DTSTART;TZID=Pacific/Honolulu:20250627T080000
DTEND;TZID=Pacific/Honolulu:20250627T170000
DTSTAMP:20260421T010845
CREATED:20250627T222817Z
LAST-MODIFIED:20250627T222817Z
UID:10066-1751011200-1751043600@hi93oahu.com
SUMMARY:Comedy U Presents Xander Beltran
DESCRIPTION:Originating from Southern California\, Xander Beltran loves days at the beach\, burritos\, and great craft beer\, but he can’t afford any of them. Being half-White and half-Mexican (like Taco Bell) he offers a unique perspective on the world and an uncanny ability to get people to chill out and figure out a way to get along. \nMaking friends wherever he goes\, Xander spends time in all sorts of scenes and hangouts and is able to portray these worlds vividly through insightful storytelling and observational comedy. His laid-back delivery\, character creation\, impressions and animated act-outs make for incredible comedy. \nHe currently operates out of San Francisco and performs all over the country. He’s opened for Dean Delray\, Eric Schwartz\, Morgan Jay\, Nick Hoff\, Erica Rhodes\, Jeff Dye\, Deon Cole\, Jamie Kennedy\, Erik Griffin\, Zoltan Kaszas and Kel Mitchell. Xander won the 2018 Cobb’s Comedy Competition\, was a Finalist at the 2019 House of Comedy’s Funniest Person W/ A Day Job contest\, a contestant in the prestigious SF International Comedy Competition and he’s been a featured performer at Big Pine Comedy Festival\, Savage Henry Festival and Oakland Comedy Festival. \nHe’s been seen on Hulu\, PBS and his debut special with Tiny Pony has amassed 41k+ views in 2 months. He’s had multiple clips go viral and is quickly becoming one of the West Coast’s top rising comedians. Come for his beautiful hair and stay to see how long into his set he starts sweating.
URL:https://hi93oahu.com/event/comedy-u-presents-xander-beltran/
LOCATION:Slack Key Lounge\, 1680 Kapiolani Blvd\, Honolulu\, HI\, 96814\, United States
ATTACH;FMTTYPE=image/jpeg:https://hi93oahu.com/wp-content/uploads/sites/13/Xander-Comedy-U.jpg
END:VEVENT
BEGIN:VEVENT
DTSTART;TZID=Pacific/Honolulu:20250617T173000
DTEND;TZID=Pacific/Honolulu:20250617T220000
DTSTAMP:20260421T010845
CREATED:20250611T034529Z
LAST-MODIFIED:20250611T034949Z
UID:9997-1750181400-1750197600@hi93oahu.com
SUMMARY:Comedy U - Ladies Night
DESCRIPTION:COMEDY U LADIES NIGHT \nComedy U & The Blue Note Comedy Series Present The Local Comedy Showcase: LADIES NIGHT COMEDY.\nEnjoy some of Hawaii’s funniest women comedians. Patrice Scott hosts the evening featuring Jasmine Bautista\, Melissa Mae\, Martha Monteon\, and Cathy Tanaka.\nFull Dinner Menu available. \n18+ \nBlue Note Hawaii\n2335 Kalakaua 2nd Floor inside of the Outrigger Waikiki Resort\nDoors 5:30PM\nShow 7:00PM \nFollow @comedyu.hi for more local comedy shows \nhttps://www.bluenotejazz.com/hawaii/shows/?eid=14409583
URL:https://hi93oahu.com/event/comedy-u-ladies-night/
LOCATION:Blue Note Hawaii\, 2335 Kalakaua Ave\, honolulu\, HI\, 96815\, United States
ATTACH;FMTTYPE=image/jpeg:https://hi93oahu.com/wp-content/uploads/sites/13/7wk96O6B4fug-6.17.2025-WEB-1.jpg
END:VEVENT
BEGIN:VEVENT
DTSTART;VALUE=DATE:20250617
DTEND;VALUE=DATE:20250630
DTSTAMP:20260421T010845
CREATED:20250620T192949Z
LAST-MODIFIED:20250620T192949Z
UID:10027-1750118400-1751241599@hi93oahu.com
SUMMARY:SIX the Musical - Live in Hawaii
DESCRIPTION:Broadway In Hawaii presents…SIX! At the Neal S. Blaisdell Center now through June 29! \nDivorced\, beheaded\, died\, divorced\, beheaded\, survived. \nFrom Tudor Queens to Pop Icons\, the SIX wives of Henry VIII take the microphone to reclaim their identities out of the shadow of their infamous spouse – remixing five hundred years of historical heartbreak into a Euphoric Celebration of 21st century girl power! This new original musical is the global sensation that everyone is losing their head over! \nThe New York Times says SIX “TOTALLY RULES!” (Critic’s Pick) and Variety calls SIX “A Solid 10!” \nSIX is the winner of 26 awards\, including the 2022 Tony Award® for Best Original Score (Music and Lyrics) and the Outer Critics Circle Award for Best Musical. \nThe SIX: LIVE ON OPENING NIGHT Broadway album debuted at Number 1 on the Billboard cast album charts and has been streamed over 100 million times worldwide.
URL:https://hi93oahu.com/event/six-the-musical-live-in-hawaii/
LOCATION:Neal S. Blaisdell Center\, 777 Ward Ave\, Honolulu\, HI\, 96814\, United States
ATTACH;FMTTYPE=image/png:https://hi93oahu.com/wp-content/uploads/sites/13/six.png
END:VEVENT
BEGIN:VEVENT
DTSTART;TZID=Pacific/Honolulu:20250609T180000
DTEND;TZID=Pacific/Honolulu:20250609T210000
DTSTAMP:20260421T010845
CREATED:20250603T224644Z
LAST-MODIFIED:20250603T224644Z
UID:9980-1749492000-1749502800@hi93oahu.com
SUMMARY:Fishers Forum at Ala Moana Hotel
DESCRIPTION:Join Steezy Monday June 9th at the Western Pacific Fisheries “Fishers Forum” at the Ala Moana Hotel from 6:00pm-9:00pm. \nDo YOU have what it takes to be successful in the commercial fishing industry? Learn about challenges Fishers and Marketers face. Check out the Forum for \nInformational Tables\, Presentations\, Participation Recognitions\, and More! \nThis event is part of the 203rd Western Pacific Fishery Management Council meeting\, \nJune 9-11 at the Ala Moana Hotel – Hibiscus Ballroom.
URL:https://hi93oahu.com/event/fishers-forum-at-ala-moana-hotel/
LOCATION:HI
ATTACH;FMTTYPE=image/gif:https://hi93oahu.com/wp-content/uploads/sites/13/June-2025-WPRFMC-Fishers-Forum-Flyer_FINAL.gif
END:VEVENT
BEGIN:VEVENT
DTSTART;TZID=Pacific/Honolulu:20250608T113000
DTEND;TZID=Pacific/Honolulu:20250608T133000
DTSTAMP:20260421T010845
CREATED:20250523T234837Z
LAST-MODIFIED:20250529T163351Z
UID:9955-1749382200-1749389400@hi93oahu.com
SUMMARY:Wet'N'Wild 90's Day
DESCRIPTION:90’s Day at Wet’n’Wild. We’re throwing it back — 90’s style!\nGet ready for a totally rad time at Wet’n’Wild as we flash back to the decade of neon\, boom boxes\, and the ultimate summer vibes. It’s 90’s Day\, and we’re bringing all the throwback energy to the park for one unforgettable event! \n  \nWhat’s Going Down: \nBright Neon Swimsuit Takeover: We want to see your loudest\, brightest 90’s fits. Think high-cut neon swimsuits\, scrunchies\, fanny packs\, windbreakers—if it screams 90’s\, it belongs here. \nLive 90’s Music Video Experience: From 11:00 AM to 3:00 PM\, the Hawaiian Waters Wave Pool transforms into a retro dance zone featuring nonstop 90’s music videos on the big screen. Dance\, float\, and vibe to the biggest hits from the decade. \nKids’ Foam Party at 1:00 PM: The little ones can dive into their own 90’s-inspired foam party\, featuring a mountain of foam for endless fun and safe play. \nRetro Photo Booth: Step into our custom photo booth packed with iconic 90’s props and backdrops. Whether you’re going for Fresh Prince flair or grunge glory\, you’ll walk away with the perfect throwback photo. \nEarly Bird Bonus – Free Swag & Treats: The first 200 adult guests through the gate will receive a pair of neon sunglasses or a free ice cream treat\, courtesy of Meadow Gold—while supplies last! Gates open at 10:30 AM—don’t be late! \nRoll Back the Price – $19.99 Admission: For one day only\, we’re taking it back to 1999 with $19.99 admission tickets—available at the gate only and before 11:30 AM. This offer is valid for same-day\, walk-up purchases\, so set those alarms. Must be a Hawaii resident with a valid state or U.S. Military ID. \nDon’t Miss Out! \nWhether you lived through it or just love the vibe\, 90’s Day at Wet’n’Wild is your chance to relive a golden era of summer fun. All event activities are included with park admission or your season pass. \nGrab your crew\, dress the part\, and dive into a day of color\, music\, and non-stop fun.
URL:https://hi93oahu.com/event/wetnwild-90s-day/
LOCATION:Wet’N’Wild Hawaii\, 400 Farrington Highway\, Kapolei\, HI\, 96707\, United States
ATTACH;FMTTYPE=image/jpeg:https://hi93oahu.com/wp-content/uploads/sites/13/90s-night.jpg
END:VEVENT
BEGIN:VEVENT
DTSTART;TZID=Pacific/Honolulu:20250606T140000
DTEND;TZID=Pacific/Honolulu:20250606T160000
DTSTAMP:20260421T010845
CREATED:20250530T010714Z
LAST-MODIFIED:20250530T212116Z
UID:9971-1749218400-1749225600@hi93oahu.com
SUMMARY:INPEACE Kaulele’s Newest Exhibit
DESCRIPTION:Come join Steezy from 2pm-4pm and help us celebrate the launch of Kauleleʻs newest Hawaiian culture and science pop-up exhibit\, Explorers of Lawaiʻa. Join InPeace from 11am – 7pm with formal programming from 5pm-7pm to learn about the creation of this exhibit and the collaborators who contributed to this project. \nFeaturing cooking demonstrations\, hands on cultural workshops\, refreshments\, and prize giveaways.
URL:https://hi93oahu.com/event/inpeace-kauleles-newest-exhibit/
LOCATION:Kamakana Alii\, 91-5431 Kapolei Pkwy\, Kapolei\, Hawaii\, 96707
ATTACH;FMTTYPE=image/jpeg:https://hi93oahu.com/wp-content/uploads/sites/13/Logo-inpeace.jpg
END:VEVENT
END:VCALENDAR