BEGIN:VCALENDAR
VERSION:2.0
PRODID:-//HI93 | Hawaii&#039;s Local Hits | Honolulu, HI - ECPv6.15.11//NONSGML v1.0//EN
CALSCALE:GREGORIAN
METHOD:PUBLISH
X-ORIGINAL-URL:https://hi93oahu.com
X-WR-CALDESC:Events for HI93 | Hawaii&#039;s Local Hits | Honolulu, HI
REFRESH-INTERVAL;VALUE=DURATION:PT1H
X-Robots-Tag:noindex
X-PUBLISHED-TTL:PT1H
BEGIN:VTIMEZONE
TZID:Pacific/Honolulu
BEGIN:STANDARD
TZOFFSETFROM:-1000
TZOFFSETTO:-1000
TZNAME:HST
DTSTART:20240101T000000
END:STANDARD
END:VTIMEZONE
BEGIN:VEVENT
DTSTART;TZID=Pacific/Honolulu:20251206T160000
DTEND;TZID=Pacific/Honolulu:20251206T200000
DTSTAMP:20260420T190051
CREATED:20251104T220733Z
LAST-MODIFIED:20251104T220733Z
UID:10373-1765036800-1765051200@hi93oahu.com
SUMMARY:INPEACE Holiday Pop-up
DESCRIPTION:In partnership with HI Street Grindz & Crafts Festival\, please join us for our 3rd annual Holiday Pop-Up Market!  This is a FREE community event.  Bring the whole ʻohana to shop local\, and enjoy ʻono food and exciting entertainment. This is an in-person event.
URL:https://hi93oahu.com/event/inpeace-holiday-pop-up/
LOCATION:INPEACE CENTER\, 91-1010 Shangrila St Suite 306\, Kapolei\, 96707
ATTACH;FMTTYPE=image/jpeg:https://hi93oahu.com/wp-content/uploads/sites/13/C4E_Holiday-Pop-Up-Flyer-2025.jpg
END:VEVENT
END:VCALENDAR