BEGIN:VCALENDAR
VERSION:2.0
PRODID:-//HI93 | Hawaii&#039;s Local Hits | Honolulu, HI - ECPv6.15.11//NONSGML v1.0//EN
CALSCALE:GREGORIAN
METHOD:PUBLISH
X-ORIGINAL-URL:https://hi93oahu.com
X-WR-CALDESC:Events for HI93 | Hawaii&#039;s Local Hits | Honolulu, HI
REFRESH-INTERVAL;VALUE=DURATION:PT1H
X-Robots-Tag:noindex
X-PUBLISHED-TTL:PT1H
BEGIN:VTIMEZONE
TZID:Pacific/Honolulu
BEGIN:STANDARD
TZOFFSETFROM:-1000
TZOFFSETTO:-1000
TZNAME:HST
DTSTART:20240101T000000
END:STANDARD
END:VTIMEZONE
BEGIN:VEVENT
DTSTART;TZID=Pacific/Honolulu:20251128T080000
DTEND;TZID=Pacific/Honolulu:20251130T170000
DTSTAMP:20260420T205036
CREATED:20251119T224054Z
LAST-MODIFIED:20251119T224054Z
UID:10403-1764316800-1764522000@hi93oahu.com
SUMMARY:Islandwide Crafts and Food Expo
DESCRIPTION:
URL:https://hi93oahu.com/event/islandwide-crafts-and-food-expo/
LOCATION:Neal S. Blaisdell Center\, 777 Ward Ave\, Honolulu\, HI\, 96814\, United States
ATTACH;FMTTYPE=image/jpeg:https://hi93oahu.com/wp-content/uploads/sites/13/ISland-Craft-scaled.jpg
END:VEVENT
BEGIN:VEVENT
DTSTART;TZID=Pacific/Honolulu:20251129T100000
DTEND;TZID=Pacific/Honolulu:20251129T130000
DTSTAMP:20260420T205036
CREATED:20251119T224529Z
LAST-MODIFIED:20251119T224529Z
UID:10406-1764410400-1764421200@hi93oahu.com
SUMMARY:Koko Marina Jingle All The Way
DESCRIPTION:
URL:https://hi93oahu.com/event/koko-marina-jingle-all-the-way/
LOCATION:Koko Marina\, 7192 Kalanianaʻole Hwy\, Honolulu\, HI\, 96825\, United States
ATTACH;FMTTYPE=image/jpeg:https://hi93oahu.com/wp-content/uploads/sites/13/KMC-MakeItMerry25-Social-4x5-1.jpg
END:VEVENT
BEGIN:VEVENT
DTSTART;TZID=Pacific/Honolulu:20251129T160000
DTEND;TZID=Pacific/Honolulu:20251129T220000
DTSTAMP:20260420T205036
CREATED:20251105T012708Z
LAST-MODIFIED:20251105T012718Z
UID:10379-1764432000-1764453600@hi93oahu.com
SUMMARY:Mele's Kalikimaka
DESCRIPTION:
URL:https://hi93oahu.com/event/meles-kalikimaka/
LOCATION:HI
ATTACH;FMTTYPE=image/jpeg:https://hi93oahu.com/wp-content/uploads/sites/13/thumbnail_72877BEB-DF87-4840-A820-6BEF4A852213.jpg
END:VEVENT
END:VCALENDAR